BEGIN:VCALENDAR
PRODID:-//eluceo/ical//2.0/EN
VERSION:2.0
CALSCALE:GREGORIAN
BEGIN:VEVENT
UID:08d3c141a3cc6848805793ad7dd6ae82
DTSTAMP:20260422T090036Z
SUMMARY:Jewish Federation of Central Mass Board Meeting
DESCRIPTION:Jewish Federation of Central Massachusetts\nCalendar\nhttps://j
 ewishcentralmass.org/calendar/17cal249\n\nJewish Federation of Central Mas
 s Board Meeting
DTSTART;TZID=America/New_York:20170103T193000
DTEND;TZID=America/New_York:20170103T210000
END:VEVENT
END:VCALENDAR
