BEGIN:VCALENDAR
PRODID:-//eluceo/ical//2.0/EN
VERSION:2.0
CALSCALE:GREGORIAN
BEGIN:VEVENT
UID:2f2922612c0640749813a7136766c43e
DTSTAMP:20260421T093938Z
SUMMARY:Jewish Federation of Central Mass Board Meeting
DESCRIPTION:Jewish Federation of Central Massachusetts\nCalendar\nhttps://j
 ewishcentralmass.org/calendar/17cal246\n\nJewish Federation of Central Mas
 s Board Meeting
DTSTART;TZID=America/New_York:20161020T193000
DTEND;TZID=America/New_York:20161020T210000
END:VEVENT
END:VCALENDAR
