BEGIN:VCALENDAR
PRODID:-//eluceo/ical//2.0/EN
VERSION:2.0
CALSCALE:GREGORIAN
BEGIN:VEVENT
UID:7d029acf28d0eb7d0ade3e846f1c101f
DTSTAMP:20260423T044922Z
SUMMARY:Jewish Federation of Central MA YAD Sunset Event
DESCRIPTION:Jewish Federation of Central Massachusetts\nCalendar\nhttps://j
 ewishcentralmass.org/calendar/17cal244\n\nJewish Federation of Central MA 
 YAD Sunset Event
DTSTART;TZID=America/New_York:20160806T180000
DTEND;TZID=America/New_York:20160806T180000
END:VEVENT
END:VCALENDAR
