BEGIN:VCALENDAR
PRODID:-//eluceo/ical//2.0/EN
VERSION:2.0
CALSCALE:GREGORIAN
BEGIN:VEVENT
UID:96090ea5c4731f740d74c7f345d3a947
DTSTAMP:20260424T084252Z
SUMMARY:Jewish Federation of Central MA YAD Passover Seder
DESCRIPTION:Jewish Federation of Central Massachusetts\nCalendar\nhttps://j
 ewishcentralmass.org/calendar/17cal240\n\nJewish Federation of Central MA 
 YAD Passover Seder
DTSTART;TZID=America/New_York:20170411T190000
DTEND;TZID=America/New_York:20170411T210000
END:VEVENT
END:VCALENDAR
