BEGIN:VCALENDAR
PRODID:-//eluceo/ical//2.0/EN
VERSION:2.0
CALSCALE:GREGORIAN
BEGIN:VEVENT
UID:33088bfaa60f7f6cf057198e0ceaccb8
DTSTAMP:20260423T143035Z
SUMMARY:Jewish Federation of Central MA YAD Monthly Shabbat Dinner
DESCRIPTION:Jewish Federation of Central Massachusetts\nCalendar\nhttps://j
 ewishcentralmass.org/calendar/17cal235\n\nJewish Federation of Central MA 
 YAD Monthly Shabbat Dinner
DTSTART;TZID=America/New_York:20170519T190000
DTEND;TZID=America/New_York:20170519T210000
END:VEVENT
END:VCALENDAR
