BEGIN:VCALENDAR
PRODID:-//eluceo/ical//2.0/EN
VERSION:2.0
CALSCALE:GREGORIAN
BEGIN:VEVENT
UID:8719872f7576098735706a3abc24a754
DTSTAMP:20260422T205442Z
SUMMARY:Jewish Federation of Central MA YAD Monthly Shabbat Dinner
DESCRIPTION:Jewish Federation of Central Massachusetts\nCalendar\nhttps://j
 ewishcentralmass.org/calendar/17cal233\n\nJewish Federation of Central MA 
 YAD Monthly Shabbat Dinner
DTSTART;TZID=America/New_York:20170310T183000
DTEND;TZID=America/New_York:20170310T210000
END:VEVENT
END:VCALENDAR
