BEGIN:VCALENDAR
PRODID:-//eluceo/ical//2.0/EN
VERSION:2.0
CALSCALE:GREGORIAN
BEGIN:VEVENT
UID:c20752e980c9fb7d5ff3ae27fbeecf71
DTSTAMP:20260423T072045Z
SUMMARY:Jewish Federation of Central MA YAD Monthly Shabbat Dinner
DESCRIPTION:Jewish Federation of Central Massachusetts\nCalendar\nhttps://j
 ewishcentralmass.org/calendar/17cal231\n\nJewish Federation of Central MA 
 YAD Monthly Shabbat Dinner
DTSTART;TZID=America/New_York:20170120T180000
DTEND;TZID=America/New_York:20170120T200000
END:VEVENT
END:VCALENDAR
