BEGIN:VCALENDAR
PRODID:-//eluceo/ical//2.0/EN
VERSION:2.0
CALSCALE:GREGORIAN
BEGIN:VEVENT
UID:642cbfc2033e1861cf3a77b55b3317ea
DTSTAMP:20260422T212909Z
SUMMARY:Jewish Federation of Central MA YAD Monthly Happy Hour
DESCRIPTION:Jewish Federation of Central Massachusetts\nCalendar\nhttps://j
 ewishcentralmass.org/calendar/17cal228\n\nJewish Federation of Central MA 
 YAD Monthly Happy Hour
DTSTART;TZID=America/New_York:20170810T183000
DTEND;TZID=America/New_York:20170810T203000
END:VEVENT
END:VCALENDAR
