BEGIN:VCALENDAR
PRODID:-//eluceo/ical//2.0/EN
VERSION:2.0
CALSCALE:GREGORIAN
BEGIN:VEVENT
UID:a8e08f4426cc823f6b4c91f9c653ef25
DTSTAMP:20260424T112037Z
SUMMARY:Jewish Federation of Central MA YAD Monthly Happy Hour
DESCRIPTION:Jewish Federation of Central Massachusetts\nCalendar\nhttps://j
 ewishcentralmass.org/calendar/17cal224\n\nJewish Federation of Central MA 
 YAD Monthly Happy Hour
DTSTART;TZID=America/New_York:20170406T183000
DTEND;TZID=America/New_York:20170406T203000
END:VEVENT
END:VCALENDAR
