BEGIN:VCALENDAR
PRODID:-//eluceo/ical//2.0/EN
VERSION:2.0
CALSCALE:GREGORIAN
BEGIN:VEVENT
UID:0f36f8aa150bf90a344d31e08c53d904
DTSTAMP:20260423T201952Z
SUMMARY:Jewish Federation of Central MA YAD Monthly Happy Hour
DESCRIPTION:Jewish Federation of Central Massachusetts\nCalendar\nhttps://j
 ewishcentralmass.org/calendar/17cal220\n\nJewish Federation of Central MA 
 YAD Monthly Happy Hour
DTSTART;TZID=America/New_York:20161208T183000
DTEND;TZID=America/New_York:20161208T203000
END:VEVENT
END:VCALENDAR
