BEGIN:VCALENDAR
PRODID:-//eluceo/ical//2.0/EN
VERSION:2.0
CALSCALE:GREGORIAN
BEGIN:VEVENT
UID:6db025efb2d9c97da962729e5e063918
DTSTAMP:20260422T233530Z
SUMMARY:Jewish Federation of Central MA YAD Monthly Happy Hour
DESCRIPTION:Jewish Federation of Central Massachusetts\nCalendar\nhttps://j
 ewishcentralmass.org/calendar/17cal219\n\nJewish Federation of Central MA 
 YAD Monthly Happy Hour
DTSTART;TZID=America/New_York:20161110T183000
DTEND;TZID=America/New_York:20161110T203000
END:VEVENT
END:VCALENDAR
