BEGIN:VCALENDAR
PRODID:-//eluceo/ical//2.0/EN
VERSION:2.0
CALSCALE:GREGORIAN
BEGIN:VEVENT
UID:53e775e6de114bf760118ca4e220feeb
DTSTAMP:20260423T100840Z
SUMMARY:Jewish Federation of Central MA YAD Monthly Happy Hour
DESCRIPTION:Jewish Federation of Central Massachusetts\nCalendar\nhttps://j
 ewishcentralmass.org/calendar/17cal217\n\nJewish Federation of Central MA 
 YAD Monthly Happy Hour
DTSTART;TZID=America/New_York:20160811T183000
DTEND;TZID=America/New_York:20160811T203000
END:VEVENT
END:VCALENDAR
