BEGIN:VCALENDAR
PRODID:-//eluceo/ical//2.0/EN
VERSION:2.0
CALSCALE:GREGORIAN
BEGIN:VEVENT
UID:7158a838cfac5450e0f1569a930b2bb8
DTSTAMP:20260423T142925Z
SUMMARY:Jewish Federation of Central MA YAD Havdallacha
DESCRIPTION:Jewish Federation of Central Massachusetts\nCalendar\nhttps://j
 ewishcentralmass.org/calendar/17cal216\n\nJewish Federation of Central MA 
 YAD Havdallacha
DTSTART;TZID=America/New_York:20161217T190000
DTEND;TZID=America/New_York:20161217T210000
END:VEVENT
END:VCALENDAR
