BEGIN:VCALENDAR
PRODID:-//eluceo/ical//2.0/EN
VERSION:2.0
CALSCALE:GREGORIAN
BEGIN:VEVENT
UID:61faf17f2f90f88eed8779b527deb595
DTSTAMP:20260423T130904Z
SUMMARY:Jewish Federation of Central MA YAD Family Shabbat BBQ
DESCRIPTION:Jewish Federation of Central Massachusetts\nCalendar\nhttps://j
 ewishcentralmass.org/calendar/17cal215\n\nJewish Federation of Central MA 
 YAD Family Shabbat BBQ
DTSTART;TZID=America/New_York:20160819T183000
DTEND;TZID=America/New_York:20160819T210000
END:VEVENT
END:VCALENDAR
