BEGIN:VCALENDAR
PRODID:-//eluceo/ical//2.0/EN
VERSION:2.0
CALSCALE:GREGORIAN
BEGIN:VEVENT
UID:8fa7b5a867ce29a72f4a4bc9d6998ef0
DTSTAMP:20260423T200150Z
SUMMARY:Jewish Federation of Central MA YAD Educational Series
DESCRIPTION:Jewish Federation of Central Massachusetts\nCalendar\nhttps://j
 ewishcentralmass.org/calendar/17cal214\n\nJewish Federation of Central MA 
 YAD Educational Series
DTSTART;TZID=America/New_York:20161211T110000
DTEND;TZID=America/New_York:20161211T130000
END:VEVENT
END:VCALENDAR
