BEGIN:VCALENDAR
PRODID:-//eluceo/ical//2.0/EN
VERSION:2.0
CALSCALE:GREGORIAN
BEGIN:VEVENT
UID:1e5aebc263e4e5b0212f4a9d7cad9ce1
DTSTAMP:20260424T011837Z
SUMMARY:Jewish Federation of Central MA YAD Apple Picking
DESCRIPTION:Jewish Federation of Central Massachusetts\nCalendar\nhttps://j
 ewishcentralmass.org/calendar/17cal212\n\nJewish Federation of Central MA 
 YAD Apple Picking
DTSTART;TZID=America/New_York:20160925T110000
DTEND;TZID=America/New_York:20160925T150000
END:VEVENT
END:VCALENDAR
