BEGIN:VCALENDAR
PRODID:-//eluceo/ical//2.0/EN
VERSION:2.0
CALSCALE:GREGORIAN
BEGIN:VEVENT
UID:2e01814e1cdcd50700a1ac45be9577aa
DTSTAMP:20260422T233125Z
SUMMARY:Jewish Federation of Central MA YAD 2nd Night Dinner
DESCRIPTION:Jewish Federation of Central Massachusetts\nCalendar\nhttps://j
 ewishcentralmass.org/calendar/17cal211\n\nJewish Federation of Central MA 
 YAD 2nd Night Dinner
DTSTART;TZID=America/New_York:20161003T180000
DTEND;TZID=America/New_York:20161003T200000
END:VEVENT
END:VCALENDAR
