BEGIN:VCALENDAR
PRODID:-//eluceo/ical//2.0/EN
VERSION:2.0
CALSCALE:GREGORIAN
BEGIN:VEVENT
UID:f58e6e20f451024bde12e29da093c9e6
DTSTAMP:20260423T223959Z
SUMMARY:Jewish Federation of Central MA YAD "New Year" Happy Hour
DESCRIPTION:Jewish Federation of Central Massachusetts\nCalendar\nhttps://j
 ewishcentralmass.org/calendar/17cal209\n\nJewish Federation of Central MA 
 YAD "New Year" Happy Hour
DTSTART;TZID=America/New_York:20161006T183000
DTEND;TZID=America/New_York:20161006T203000
END:VEVENT
END:VCALENDAR
