BEGIN:VCALENDAR
PRODID:-//eluceo/ical//2.0/EN
VERSION:2.0
CALSCALE:GREGORIAN
BEGIN:VEVENT
UID:23bdc8d492768b791d783877403ec0e9
DTSTAMP:20260422T084053Z
SUMMARY:Jewish Community Center Winter Gala Event
DESCRIPTION:Jewish Federation of Central Massachusetts\nCalendar\nhttps://j
 ewishcentralmass.org/calendar/17cal208\n\nJewish Community Center Winter G
 ala Event
DTSTART;TZID=America/New_York:20170204T180000
DTEND;TZID=America/New_York:20170204T233000
END:VEVENT
END:VCALENDAR
