BEGIN:VCALENDAR
PRODID:-//eluceo/ical//2.0/EN
VERSION:2.0
CALSCALE:GREGORIAN
BEGIN:VEVENT
UID:124dd3dcbad3374466e657ca1b0217da
DTSTAMP:20260421T231820Z
SUMMARY:Jewish Community Center Film Festival
DESCRIPTION:Jewish Federation of Central Massachusetts\nCalendar\nhttps://j
 ewishcentralmass.org/calendar/17cal205\n\nJewish Community Center Film Fes
 tival
DTSTART;TZID=America/New_York:20170129T190000
DTEND;TZID=America/New_York:20170129T220000
END:VEVENT
END:VCALENDAR
