BEGIN:VCALENDAR
PRODID:-//eluceo/ical//2.0/EN
VERSION:2.0
CALSCALE:GREGORIAN
BEGIN:VEVENT
UID:2c168faab0837d6f3409c31c34ce50fb
DTSTAMP:20260423T092232Z
SUMMARY:Jewish Community Center Film Festival
DESCRIPTION:Jewish Federation of Central Massachusetts\nCalendar\nhttps://j
 ewishcentralmass.org/calendar/17cal204\n\nJewish Community Center Film Fes
 tival
DTSTART;TZID=America/New_York:20170128T190000
DTEND;TZID=America/New_York:20170128T220000
END:VEVENT
END:VCALENDAR
