BEGIN:VCALENDAR
PRODID:-//eluceo/ical//2.0/EN
VERSION:2.0
CALSCALE:GREGORIAN
BEGIN:VEVENT
UID:3f7247b5ecbe73864d6e73fd3242cdff
DTSTAMP:20260424T095310Z
SUMMARY:Jewish Community Center Film Festival
DESCRIPTION:Jewish Federation of Central Massachusetts\nCalendar\nhttps://j
 ewishcentralmass.org/calendar/17cal203\n\nJewish Community Center Film Fes
 tival
DTSTART;TZID=America/New_York:20170124T190000
DTEND;TZID=America/New_York:20170124T220000
END:VEVENT
END:VCALENDAR
