BEGIN:VCALENDAR
PRODID:-//eluceo/ical//2.0/EN
VERSION:2.0
CALSCALE:GREGORIAN
BEGIN:VEVENT
UID:1750d12ccb375ed9ff290b1ca81c13cc
DTSTAMP:20260421T135043Z
SUMMARY:Jewish Community Center Board Meeting
DESCRIPTION:Jewish Federation of Central Massachusetts\nCalendar\nhttps://j
 ewishcentralmass.org/calendar/17cal200\n\nJewish Community Center Board Me
 eting
DTSTART;TZID=America/New_York:20170518T193000
DTEND;TZID=America/New_York:20170518T210000
END:VEVENT
END:VCALENDAR
