BEGIN:VCALENDAR
PRODID:-//eluceo/ical//2.0/EN
VERSION:2.0
CALSCALE:GREGORIAN
BEGIN:VEVENT
UID:4c840255668ee23afaee20cf94f58cf0
DTSTAMP:20260421T072216Z
SUMMARY:Jewish Community Center Board Meeting
DESCRIPTION:Jewish Federation of Central Massachusetts\nCalendar\nhttps://j
 ewishcentralmass.org/calendar/17cal198\n\nJewish Community Center Board Me
 eting
DTSTART;TZID=America/New_York:20170209T193000
DTEND;TZID=America/New_York:20170209T210000
END:VEVENT
END:VCALENDAR
