BEGIN:VCALENDAR
PRODID:-//eluceo/ical//2.0/EN
VERSION:2.0
CALSCALE:GREGORIAN
BEGIN:VEVENT
UID:079549dddac63b491ba57a61392503c0
DTSTAMP:20260423T034416Z
SUMMARY:Jewish Community Center Board Meeting
DESCRIPTION:Jewish Federation of Central Massachusetts\nCalendar\nhttps://j
 ewishcentralmass.org/calendar/17cal195\n\nJewish Community Center Board Me
 eting
DTSTART;TZID=America/New_York:20161117T193000
DTEND;TZID=America/New_York:20161117T210000
END:VEVENT
END:VCALENDAR
