BEGIN:VCALENDAR
PRODID:-//eluceo/ical//2.0/EN
VERSION:2.0
CALSCALE:GREGORIAN
BEGIN:VEVENT
UID:34a7b859c28d17929d415ca64cd3943f
DTSTAMP:20260423T000412Z
SUMMARY:Jewish Community Center Board Meeting
DESCRIPTION:Jewish Federation of Central Massachusetts\nCalendar\nhttps://j
 ewishcentralmass.org/calendar/17cal193\n\nJewish Community Center Board Me
 eting
DTSTART;TZID=America/New_York:20160915T193000
DTEND;TZID=America/New_York:20160915T210000
END:VEVENT
END:VCALENDAR
