BEGIN:VCALENDAR
PRODID:-//eluceo/ical//2.0/EN
VERSION:2.0
CALSCALE:GREGORIAN
BEGIN:VEVENT
UID:6b36c9e031ad6190f442fa621f76c4f2
DTSTAMP:20260422T124916Z
SUMMARY:Jewish Community Center Annual Meeting
DESCRIPTION:Jewish Federation of Central Massachusetts\nCalendar\nhttps://j
 ewishcentralmass.org/calendar/17cal192\n\nJewish Community Center Annual M
 eeting
DTSTART;TZID=America/New_York:20170615T180000
DTEND;TZID=America/New_York:20170615T200000
END:VEVENT
END:VCALENDAR
