BEGIN:VCALENDAR
PRODID:-//eluceo/ical//2.0/EN
VERSION:2.0
CALSCALE:GREGORIAN
BEGIN:VEVENT
UID:55504b62073b756330c456ef3b4dc581
DTSTAMP:20260423T000452Z
SUMMARY:High Holidays community program
DESCRIPTION:Jewish Federation of Central Massachusetts\nCalendar\nhttps://j
 ewishcentralmass.org/calendar/17cal190\n\nHigh Holidays community program
DTSTART;TZID=America/New_York:20160911T170000
DTEND;TZID=America/New_York:20160911T190000
END:VEVENT
END:VCALENDAR
