BEGIN:VCALENDAR
PRODID:-//eluceo/ical//2.0/EN
VERSION:2.0
CALSCALE:GREGORIAN
BEGIN:VEVENT
UID:724dd98827448a7c27e65864997882bb
DTSTAMP:20260423T113326Z
SUMMARY:Hanukkah
DESCRIPTION:Jewish Federation of Central Massachusetts\nCalendar\nhttps://j
 ewishcentralmass.org/calendar/17cal189\n\nHanukkah
DTSTART;TZID=America/New_York:20161225T000100
DTEND;TZID=America/New_York:20170101T235900
END:VEVENT
END:VCALENDAR
