BEGIN:VCALENDAR
PRODID:-//eluceo/ical//2.0/EN
VERSION:2.0
CALSCALE:GREGORIAN
BEGIN:VEVENT
UID:a3e10e5776217b5024a0a25b67b31d90
DTSTAMP:20260424T111901Z
SUMMARY:Hadassah Donor Meeting
DESCRIPTION:Jewish Federation of Central Massachusetts\nCalendar\nhttps://j
 ewishcentralmass.org/calendar/17cal188\n\nHadassah Donor Meeting
DTSTART;TZID=America/New_York:20170430T110000
DTEND;TZID=America/New_York:20170430T150000
END:VEVENT
END:VCALENDAR
