BEGIN:VCALENDAR
PRODID:-//eluceo/ical//2.0/EN
VERSION:2.0
CALSCALE:GREGORIAN
BEGIN:VEVENT
UID:4b08e5f1c99553f71dcfcbacab5e65bf
DTSTAMP:20260425T174418Z
SUMMARY:First Seder
DESCRIPTION:Jewish Federation of Central Massachusetts\nCalendar\nhttps://j
 ewishcentralmass.org/calendar/17cal187\n\nFirst Seder
DTSTART;TZID=America/New_York:20170410T000100
DTEND;TZID=America/New_York:20170410T235900
END:VEVENT
END:VCALENDAR
