BEGIN:VCALENDAR
PRODID:-//eluceo/ical//2.0/EN
VERSION:2.0
CALSCALE:GREGORIAN
BEGIN:VEVENT
UID:d15af5b0f6b731e892ee3beeb39ba660
DTSTAMP:20260422T015314Z
SUMMARY:Erev Rosh Hashanah
DESCRIPTION:Jewish Federation of Central Massachusetts\nCalendar\nhttps://j
 ewishcentralmass.org/calendar/17cal185\n\nErev Rosh Hashanah
DTSTART;TZID=America/New_York:20161002T000000
DTEND;TZID=America/New_York:20161002T235900
END:VEVENT
END:VCALENDAR
