BEGIN:VCALENDAR
PRODID:-//eluceo/ical//2.0/EN
VERSION:2.0
CALSCALE:GREGORIAN
BEGIN:VEVENT
UID:ede8c0a49111acc173c3b3bdc513ed06
DTSTAMP:20260424T101923Z
SUMMARY:Erev Hanukkah
DESCRIPTION:Jewish Federation of Central Massachusetts\nCalendar\nhttps://j
 ewishcentralmass.org/calendar/17cal184\n\nErev Hanukkah
DTSTART;TZID=America/New_York:20161224T000100
DTEND;TZID=America/New_York:20161224T235900
END:VEVENT
END:VCALENDAR
