BEGIN:VCALENDAR
PRODID:-//eluceo/ical//2.0/EN
VERSION:2.0
CALSCALE:GREGORIAN
BEGIN:VEVENT
UID:a31dd5dcd4e4f625ea44f5991322eeb7
DTSTAMP:20260423T125856Z
SUMMARY:Election Day
DESCRIPTION:Jewish Federation of Central Massachusetts\nCalendar\nhttps://j
 ewishcentralmass.org/calendar/17cal183\n\nElection Day
DTSTART;TZID=America/New_York:20161108T000100
DTEND;TZID=America/New_York:20161108T235900
END:VEVENT
END:VCALENDAR
