BEGIN:VCALENDAR
PRODID:-//eluceo/ical//2.0/EN
VERSION:2.0
CALSCALE:GREGORIAN
BEGIN:VEVENT
UID:c1476d897f07df40fc8fcbe61a6217a9
DTSTAMP:20260423T004607Z
SUMMARY:Congregation B'nai Shalom Women's Seder
DESCRIPTION:Jewish Federation of Central Massachusetts\nCalendar\nhttps://j
 ewishcentralmass.org/calendar/17cal181\n\nCongregation B'nai Shalom Women'
 s Seder
DTSTART;TZID=America/New_York:20170330T183000
DTEND;TZID=America/New_York:20170330T200000
END:VEVENT
END:VCALENDAR
