BEGIN:VCALENDAR
PRODID:-//eluceo/ical//2.0/EN
VERSION:2.0
CALSCALE:GREGORIAN
BEGIN:VEVENT
UID:14cfbe4744bc8ecc23fb1a5c39c5d0d5
DTSTAMP:20260422T114704Z
SUMMARY:Congregation B'nai Shalom Tot Shabbat
DESCRIPTION:Jewish Federation of Central Massachusetts\nCalendar\nhttps://j
 ewishcentralmass.org/calendar/17cal180\n\nCongregation B'nai Shalom Tot Sh
 abbat
DTSTART;TZID=America/New_York:20170218T101500
DTEND;TZID=America/New_York:20170218T120000
END:VEVENT
END:VCALENDAR
