BEGIN:VCALENDAR
PRODID:-//eluceo/ical//2.0/EN
VERSION:2.0
CALSCALE:GREGORIAN
BEGIN:VEVENT
UID:86a9b4294e3d4c3ca0979504bfab7618
DTSTAMP:20260423T023416Z
SUMMARY:Congregation B'nai Shalom Tot Shabbat
DESCRIPTION:Jewish Federation of Central Massachusetts\nCalendar\nhttps://j
 ewishcentralmass.org/calendar/17cal179\n\nCongregation B'nai Shalom Tot Sh
 abbat
DTSTART;TZID=America/New_York:20170121T101500
DTEND;TZID=America/New_York:20170121T120000
END:VEVENT
END:VCALENDAR
