BEGIN:VCALENDAR
PRODID:-//eluceo/ical//2.0/EN
VERSION:2.0
CALSCALE:GREGORIAN
BEGIN:VEVENT
UID:f0de3274c15333bc2a7321ea0cade675
DTSTAMP:20260423T143851Z
SUMMARY:Congregation B'nai Shalom Tot Shabbat
DESCRIPTION:Jewish Federation of Central Massachusetts\nCalendar\nhttps://j
 ewishcentralmass.org/calendar/17cal178\n\nCongregation B'nai Shalom Tot Sh
 abbat
DTSTART;TZID=America/New_York:20161217T101500
DTEND;TZID=America/New_York:20161217T120000
END:VEVENT
END:VCALENDAR
