BEGIN:VCALENDAR
PRODID:-//eluceo/ical//2.0/EN
VERSION:2.0
CALSCALE:GREGORIAN
BEGIN:VEVENT
UID:8d57c6d02c895958d018501a85232368
DTSTAMP:20260423T212127Z
SUMMARY:Congregation B'nai Shalom Selichot
DESCRIPTION:Jewish Federation of Central Massachusetts\nCalendar\nhttps://j
 ewishcentralmass.org/calendar/17cal176\n\nCongregation B'nai Shalom Selich
 ot
DTSTART;TZID=America/New_York:20160924T190000
DTEND;TZID=America/New_York:20160924T210000
END:VEVENT
END:VCALENDAR
