BEGIN:VCALENDAR
PRODID:-//eluceo/ical//2.0/EN
VERSION:2.0
CALSCALE:GREGORIAN
BEGIN:VEVENT
UID:d60bc62c798accfdb73b7a8be3687b14
DTSTAMP:20260423T183841Z
SUMMARY:Congregation B'nai Shalom Open House
DESCRIPTION:Jewish Federation of Central Massachusetts\nCalendar\nhttps://j
 ewishcentralmass.org/calendar/17cal173\n\nCongregation B'nai Shalom Open H
 ouse
DTSTART;TZID=America/New_York:20160811T183000
DTEND;TZID=America/New_York:20160811T210000
END:VEVENT
END:VCALENDAR
