BEGIN:VCALENDAR
PRODID:-//eluceo/ical//2.0/EN
VERSION:2.0
CALSCALE:GREGORIAN
BEGIN:VEVENT
UID:a839efca50f1bfbe1e1950e4cebaf949
DTSTAMP:20260422T221011Z
SUMMARY:Congregation B'nai Shalom Last Day of Hebrew School
DESCRIPTION:Jewish Federation of Central Massachusetts\nCalendar\nhttps://j
 ewishcentralmass.org/calendar/17cal172\n\nCongregation B'nai Shalom Last D
 ay of Hebrew School
DTSTART;TZID=America/New_York:20170514T090000
DTEND;TZID=America/New_York:20170514T120000
END:VEVENT
END:VCALENDAR
