BEGIN:VCALENDAR
PRODID:-//eluceo/ical//2.0/EN
VERSION:2.0
CALSCALE:GREGORIAN
BEGIN:VEVENT
UID:d42ad3a95f8296c2c1951acb84a3c3e8
DTSTAMP:20260423T100600Z
SUMMARY:Congregation B'nai Shalom Event
DESCRIPTION:Jewish Federation of Central Massachusetts\nCalendar\nhttps://j
 ewishcentralmass.org/calendar/17cal170\n\nCongregation B'nai Shalom Shredd
 er Event
DTSTART;TZID=America/New_York:20170507T110000
DTEND;TZID=America/New_York:20170507T140000
END:VEVENT
END:VCALENDAR
