BEGIN:VCALENDAR
PRODID:-//eluceo/ical//2.0/EN
VERSION:2.0
CALSCALE:GREGORIAN
BEGIN:VEVENT
UID:1376165e18aa5b3035f7c8d75d9269c8
DTSTAMP:20260422T221444Z
SUMMARY:Congregation B'nai Shalom Board Meeting
DESCRIPTION:Jewish Federation of Central Massachusetts\nCalendar\nhttps://j
 ewishcentralmass.org/calendar/17cal169\n\nCongregation B'nai Shalom Board 
 Meeting
DTSTART;TZID=America/New_York:20170524T193000
DTEND;TZID=America/New_York:20170524T210000
END:VEVENT
END:VCALENDAR
