BEGIN:VCALENDAR
PRODID:-//eluceo/ical//2.0/EN
VERSION:2.0
CALSCALE:GREGORIAN
BEGIN:VEVENT
UID:03f5d11072a8c094113915fe78695159
DTSTAMP:20260423T072115Z
SUMMARY:Congregation B'nai Shalom Board Meeting
DESCRIPTION:Jewish Federation of Central Massachusetts\nCalendar\nhttps://j
 ewishcentralmass.org/calendar/17cal168\n\nCongregation B'nai Shalom Board 
 Meeting
DTSTART;TZID=America/New_York:20170426T193000
DTEND;TZID=America/New_York:20170426T210000
END:VEVENT
END:VCALENDAR
