BEGIN:VCALENDAR
PRODID:-//eluceo/ical//2.0/EN
VERSION:2.0
CALSCALE:GREGORIAN
BEGIN:VEVENT
UID:d1990c9c6a88cf9e21a7bed0eb36bd8b
DTSTAMP:20260422T010103Z
SUMMARY:Congregation B'nai Shalom Board Meeting
DESCRIPTION:Jewish Federation of Central Massachusetts\nCalendar\nhttps://j
 ewishcentralmass.org/calendar/17cal167\n\nCongregation B'nai Shalom Board 
 Meeting
DTSTART;TZID=America/New_York:20170322T193000
DTEND;TZID=America/New_York:20170322T210000
END:VEVENT
END:VCALENDAR
