BEGIN:VCALENDAR
PRODID:-//eluceo/ical//2.0/EN
VERSION:2.0
CALSCALE:GREGORIAN
BEGIN:VEVENT
UID:242b9fcf9e036b2b0bb0d19192016c16
DTSTAMP:20260423T084435Z
SUMMARY:Congregation B'nai Shalom Board Meeting
DESCRIPTION:Jewish Federation of Central Massachusetts\nCalendar\nhttps://j
 ewishcentralmass.org/calendar/17cal162\n\nCongregation B'nai Shalom Board 
 Meeting
DTSTART;TZID=America/New_York:20160928T193000
DTEND;TZID=America/New_York:20160928T210000
END:VEVENT
END:VCALENDAR
