BEGIN:VCALENDAR
PRODID:-//eluceo/ical//2.0/EN
VERSION:2.0
CALSCALE:GREGORIAN
BEGIN:VEVENT
UID:3ffe60c470471a31dfe1e987cef84abb
DTSTAMP:20260424T124752Z
SUMMARY:Congregation B'nai Shalom Blood Drive
DESCRIPTION:Jewish Federation of Central Massachusetts\nCalendar\nhttps://j
 ewishcentralmass.org/calendar/17cal160\n\nCongregation B'nai Shalom Blood 
 Drive
DTSTART;TZID=America/New_York:20170430T080000
DTEND;TZID=America/New_York:20170430T120000
END:VEVENT
END:VCALENDAR
