BEGIN:VCALENDAR
PRODID:-//eluceo/ical//2.0/EN
VERSION:2.0
CALSCALE:GREGORIAN
BEGIN:VEVENT
UID:d9504fdb2891fba53ab1ee43be7bf40c
DTSTAMP:20260423T020132Z
SUMMARY:Congregation B'nai Shalom Blood Drive
DESCRIPTION:Jewish Federation of Central Massachusetts\nCalendar\nhttps://j
 ewishcentralmass.org/calendar/17cal159\n\nCongregation B'nai Shalom Blood 
 Drive
DTSTART;TZID=America/New_York:20161106T080000
DTEND;TZID=America/New_York:20161106T140000
END:VEVENT
END:VCALENDAR
