BEGIN:VCALENDAR
PRODID:-//eluceo/ical//2.0/EN
VERSION:2.0
CALSCALE:GREGORIAN
BEGIN:VEVENT
UID:851634dc264585de44faaa2f5a284d7d
DTSTAMP:20260422T141700Z
SUMMARY:Congregation B'nai Shalom Annual Meeting
DESCRIPTION:Jewish Federation of Central Massachusetts\nCalendar\nhttps://j
 ewishcentralmass.org/calendar/17cal158\n\nCongregation B'nai Shalom Annual
  Meeting
DTSTART;TZID=America/New_York:20170507T090000
DTEND;TZID=America/New_York:20170507T110000
END:VEVENT
END:VCALENDAR
