BEGIN:VCALENDAR
PRODID:-//eluceo/ical//2.0/EN
VERSION:2.0
CALSCALE:GREGORIAN
BEGIN:VEVENT
UID:81d86d18532fc08e7573ed7b964538b4
DTSTAMP:20260423T113632Z
SUMMARY:Congregation B'nai Shalom  Gala Event
DESCRIPTION:Jewish Federation of Central Massachusetts\nCalendar\nhttps://j
 ewishcentralmass.org/calendar/17cal157\n\nCongregation B'nai Shalom Gala  
 Event
DTSTART;TZID=America/New_York:20170304T193000
DTEND;TZID=America/New_York:20170304T210000
END:VEVENT
END:VCALENDAR
